BEGIN:VCALENDAR
VERSION:2.0
PRODID:-//ChamberMaster//Event Calendar 2.0//EN
METHOD:PUBLISH
X-PUBLISHED-TTL:P3D
REFRESH-INTERVAL:P3D
CALSCALE:GREGORIAN
BEGIN:VEVENT
DTSTART:20251020T150000Z
DTEND:20251021T000000Z
X-MICROSOFT-CDO-ALLDAYEVENT:FALSE
SUMMARY:VetArt Annual Golf Tournament Fundraiser
DESCRIPTION:Annual Fundraiser Gold Tournament with playing contests Longest Drive\, Putting Contest. Plus win 10k for hitting a hole in one. Bring your friends for a day of friendly gold competition and raise funds for a great cause. The Veterans Art Project (VETART) is a community based arts organization serving Veterans\, Active Duty\, Spouses\, dependents\, their caregivers\, and the community through free classes in the process-heavy art disciplines of Ceramics\, Glass\, Woodworking\, and Bronze Casting. http://www.vetart.org
X-ALT-DESC;FMTTYPE=text/html:Annual Fundraiser Gold Tournament with playing contests Longest Drive\, Putting Contest. Plus win 10k for hitting a hole in one. Bring your friends for a day of friendly gold competition and raise funds for a great cause. The Veterans Art Project (VETART) is a community based arts organization serving Veterans\, Active Duty\, Spouses\, dependents\, their caregivers\, and the community through free classes in the process-heavy art disciplines of Ceramics\, Glass\, Woodworking\, and Bronze Casting. http://www.vetart.org
LOCATION:Shadowridge Golf Course 1980 Gateway Dr Vista\, CA 92081-9031
UID:e.493.29573
SEQUENCE:3
DTSTAMP:20260422T114828Z
URL:https://business.vistachamber.org/events/details/vetart-annual-golf-tournament-fundraiser-29573
END:VEVENT

END:VCALENDAR
