BEGIN:VCALENDAR
VERSION:2.0
PRODID:-//ChamberMaster//Event Calendar 2.0//EN
METHOD:PUBLISH
X-PUBLISHED-TTL:P3D
REFRESH-INTERVAL:P3D
CALSCALE:GREGORIAN
BEGIN:VEVENT
DTSTART:20240810T200000Z
DTEND:20240811T050000Z
X-MICROSOFT-CDO-ALLDAYEVENT:FALSE
SUMMARY:Video Game Music Festival
DESCRIPTION:Live music from:\n\n	Japanese Lunchtime Rush\n	Kirby's Dream Band\n	The Returners\n	Ro Panuganti\n	Super Tonic\n	Two Turtles Duo\n	Kainga Music
X-ALT-DESC;FMTTYPE=text/html:Live music from:\n<ul>\n	<li>Japanese Lunchtime Rush</li>\n	<li>Kirby&#39\;s Dream Band</li>\n	<li>The Returners</li>\n	<li>Ro Panuganti</li>\n	<li>Super Tonic</li>\n	<li>Two Turtles Duo</li>\n	<li>Kainga Music</li>\n</ul>\n
LOCATION:Aztec Brewery 2330 La Mirada Dr. Suite 300 Vista\, CA 92081
UID:e.493.28646
SEQUENCE:3
DTSTAMP:20260423T010549Z
URL:https://business.vistachamber.org/events/details/video-game-music-festival-28646
END:VEVENT

END:VCALENDAR
