BEGIN:VCALENDAR
VERSION:2.0
PRODID:-//ChamberMaster//Event Calendar 2.0//EN
METHOD:PUBLISH
X-PUBLISHED-TTL:P3D
REFRESH-INTERVAL:P3D
CALSCALE:GREGORIAN
BEGIN:VEVENT
DTSTART:20230909T180000Z
DTEND:20230909T210000Z
X-MICROSOFT-CDO-ALLDAYEVENT:FALSE
SUMMARY:Vino & Vintage Classic Car Show
DESCRIPTION:Calling All Cars! Cars Wanted!! \n\nJoin us for a special gathering of grapes and gears for our 1st ever Annual Vino & Vintage Car Show at Grafted Cellars Winery on Saturday September 9th from 11am-2pm. Get ready to feast your eyes on a stunning display of classic cars. Whether you're a car enthusiast or just looking for a fun day out\, this event is great for everyone!\n\n \nThere will be:\n\nLive Music\n\nFood by Tiger Sticks\n\nLocal Vendors\n\nRaffle Prizes\n\nRegister your vehicle for a chance to win one of 3 custom made trophies. Entry fee and/or Car Registration is $10 and includes a glass of wine or non-alcoholic beverage. Please RSVP by Sept. 8th
X-ALT-DESC;FMTTYPE=text/html:Calling All Cars! Cars Wanted!!&nbsp\;<br />\n<span style="font-family:arial\,sans-serif"><span style="font-size:12pt">Join us for a special gathering of grapes and gears for our 1st ever Annual Vino &amp\; Vintage Car Show at Grafted Cellars Winery on Saturday September 9th from 11am-2pm.&nbsp\;Get ready to feast your eyes on a stunning display of classic cars. Whether you&rsquo\;re a car enthusiast or just looking for a fun day out\, this event is great for everyone!</span></span><br />\n&nbsp\;\n<p><span style="color:#333333\; font-family:arial\,sans-serif\; font-size:12.0pt">There will be:</span></p>\n\n<p><span style="color:#333333\; font-family:arial\,sans-serif\; font-size:12.0pt">Live Music</span></p>\n\n<p><span style="color:#333333\; font-family:arial\,sans-serif\; font-size:12.0pt">Food by Tiger Sticks</span></p>\n\n<p><span style="color:#333333\; font-family:arial\,sans-serif\; font-size:12.0pt">Local Vendors</span></p>\n\n<p><span style="color:#333333\; font-family:arial\,sans-serif\; font-size:12.0pt">Raffle Prizes</span></p>\n\n<p><span style="color:#333333\; font-family:arial\,sans-serif\; font-size:12.0pt">Register your vehicle for a chance to win one of 3 custom made trophies. Entry fee and/or Car Registration is $10 and includes a glass of wine or non-alcoholic beverage. Please RSVP by Sept. 8th</span></p>\n
LOCATION:2379 La Mirada Dr. Vista CA 92081
UID:e.493.25484
SEQUENCE:3
DTSTAMP:20260423T212313Z
URL:https://business.vistachamber.org/events/details/vino-vintage-classic-car-show-25484
END:VEVENT

END:VCALENDAR
