BEGIN:VCALENDAR
VERSION:2.0
PRODID:-//ChamberMaster//Event Calendar 2.0//EN
METHOD:PUBLISH
X-PUBLISHED-TTL:P3D
REFRESH-INTERVAL:P3D
CALSCALE:GREGORIAN
BEGIN:VEVENT
DTSTART:20250723T230000Z
DTEND:20250724T000000Z
X-MICROSOFT-CDO-ALLDAYEVENT:FALSE
SUMMARY:Vista Chamber Education Committee - CANCELLED
DESCRIPTION:This month's Education Committee meeting will be cancelled.\n\n\n\nJoin us for our Monthly Education Committee meeting as we discuss issues and resources available in the world of Education and Workforce Development    \n\n\n\nEmail ceo@vistachamber.org to be added to the distribution list.
X-ALT-DESC;FMTTYPE=text/html:<span style="color:#FF0000\;"><strong>This month&#39\;s Education Committee meeting will be cancelled.</strong></span><br />\n<br />\nJoin us for our Monthly Education Committee meeting as we discuss issues and resources available in the world of Education and Workforce Development&nbsp\;&nbsp\;&nbsp\;&nbsp\;<br />\n<br />\nEmail ceo@vistachamber.org to be added to the distribution list.
LOCATION:Hybrid Meeting offered in-person at the Vista Chamber Office and via Zoom. Agenda and Zoom link sent via email one week in advance.
UID:e.493.18955
SEQUENCE:3
DTSTAMP:20260422T191242Z
URL:https://business.vistachamber.org/events/details/vista-chamber-education-committee-cancelled-07-23-2025-18955
END:VEVENT

END:VCALENDAR
