BEGIN:VCALENDAR
VERSION:2.0
PRODID:-//ChamberMaster//Event Calendar 2.0//EN
METHOD:PUBLISH
X-PUBLISHED-TTL:P3D
REFRESH-INTERVAL:P3D
CALSCALE:GREGORIAN
BEGIN:VEVENT
DTSTART:20260205T200000Z
DTEND:20260205T213000Z
X-MICROSOFT-CDO-ALLDAYEVENT:FALSE
SUMMARY:Vista Chamber Government Affairs
DESCRIPTION:Join us for our Government Affairs Meeting. We receive updates each month from our representatives from Federal\, State\, County and City government.  Keep up on what is happening in our community.\n\n\n\nThis month we will have a working session to update our public policy platform. Join us if you'd like to help shape the issues we focus on.\n\n\n\nLunch option costs $10.
X-ALT-DESC;FMTTYPE=text/html:<div><span style="font-size:16px\;">Join us for our Government Affairs Meeting. We receive updates each month from our representatives from Federal\, State\, County and City government.&nbsp\; Keep up on what is happening in our community.<br />\n<br />\nThis month we will have a working session to update our public policy platform. Join us if you&#39\;d like to help shape the issues we focus on.<br />\n<br />\nLunch option costs $10.</span></div>\n
LOCATION:Meeting is held at The Film Hub 170 Eucalyptus Avenue\, Vista
UID:e.493.20542
SEQUENCE:3
DTSTAMP:20260422T205805Z
URL:https://business.vistachamber.org/events/details/vista-chamber-government-affairs-02-05-2026-20542
END:VEVENT

END:VCALENDAR
