BEGIN:VCALENDAR
VERSION:2.0
PRODID:-//ChamberMaster//Event Calendar 2.0//EN
METHOD:PUBLISH
X-PUBLISHED-TTL:P3D
REFRESH-INTERVAL:P3D
CALSCALE:GREGORIAN
BEGIN:VEVENT
DTSTART:20250703T190000Z
DTEND:20250703T203000Z
X-MICROSOFT-CDO-ALLDAYEVENT:FALSE
SUMMARY:Vista Chamber Government Affairs - CANCELLED
DESCRIPTION:The Government Affairs Meeting is cancelled this month.\n\n\n\nWe receive updates each month from our representatives from Federal\, State\, County and City government.  Keep up on what is happening in our community. Lunch option costs $10.
X-ALT-DESC;FMTTYPE=text/html:<div><span style="font-size:14px\;"><span style="font-family:arial\;"><span style="color:#FF0000\;"><span style="font-size:16px\;"><strong>The Government Affairs Meeting is cancelled this month.</strong></span></span><br />\n<br />\nWe receive updates each month from our representatives from Federal\, State\, County and City government.&nbsp\; Keep up on what is happening in our community. Lunch option costs $10.</span></span></div>\n
LOCATION:Meeting is held at The Film Hub 170 Eucalyptus Avenue\, Vista
UID:e.493.20535
SEQUENCE:3
DTSTAMP:20260422T193125Z
URL:https://business.vistachamber.org/events/details/vista-chamber-government-affairs-cancelled-07-03-2025-20535
END:VEVENT

END:VCALENDAR
