BEGIN:VCALENDAR
VERSION:2.0
PRODID:-//ChamberMaster//Event Calendar 2.0//EN
METHOD:PUBLISH
X-PUBLISHED-TTL:P3D
REFRESH-INTERVAL:P3D
CALSCALE:GREGORIAN
BEGIN:VEVENT
DTSTART:20220126T200000Z
DTEND:20220126T210000Z
X-MICROSOFT-CDO-ALLDAYEVENT:FALSE
SUMMARY:Vista Chamber Lunch Mob at Raising Cane's
DESCRIPTION:This is a great time to focus on keeping your networking skills sharp and to meet our new members and guests. Open to members and non-members\, feel comfortable to bring any guests with you. This is a no-host event and everyone pays for their own lunch. \n\nBring your business cards!
X-ALT-DESC;FMTTYPE=text/html:This is a great time to focus on keeping your networking skills sharp and to meet our new members and guests. Open to members and non-members\, feel comfortable to bring any guests with you. This is a no-host event and everyone pays for their own lunch.&nbsp\;<br />\nBring your business cards!
LOCATION:Raising Cane's
UID:e.493.20345
SEQUENCE:3
DTSTAMP:20260421T091642Z
URL:https://business.vistachamber.org/events/details/vista-chamber-lunch-mob-at-raising-cane-s-20345
END:VEVENT

END:VCALENDAR
