BEGIN:VCALENDAR
VERSION:2.0
PRODID:-//ChamberMaster//Event Calendar 2.0//EN
METHOD:PUBLISH
X-PUBLISHED-TTL:P3D
REFRESH-INTERVAL:P3D
CALSCALE:GREGORIAN
BEGIN:VEVENT
DTSTART:20210929T153000Z
DTEND:20210929T170000Z
X-MICROSOFT-CDO-ALLDAYEVENT:FALSE
SUMMARY:Vista Chamber Non-Profit Roundtable
DESCRIPTION:Join us for our Non-Profit Roundtable.
X-ALT-DESC;FMTTYPE=text/html:Join us for our Non-Profit Roundtable.
LOCATION:Online through Zoom.
UID:e.493.21836
SEQUENCE:3
DTSTAMP:20260424T020704Z
URL:https://business.vistachamber.org/events/details/vista-chamber-non-profit-roundtable-09-29-2021-21836
END:VEVENT

END:VCALENDAR
