BEGIN:VCALENDAR
VERSION:2.0
PRODID:-//ChamberMaster//Event Calendar 2.0//EN
METHOD:PUBLISH
X-PUBLISHED-TTL:P3D
REFRESH-INTERVAL:P3D
CALSCALE:GREGORIAN
BEGIN:VEVENT
DTSTART:20251129T190000Z
DTEND:20251130T000000Z
X-MICROSOFT-CDO-ALLDAYEVENT:FALSE
SUMMARY:Vista Community Market
DESCRIPTION:Celebrate Small Business Saturday by supporting our amazing local small businesses!\n\nEnjoy a vibrant gathering filled with unique local crafts\, handmade treasures\, fresh goods\,\n\nand talented artisan vendors. Let?s strengthen our community spirit and shop local! \n\n\n\nWhile you explore the market\, don?t forget to stop by the surrounding storefronts. Grab a coffee\, browse a boutique\, or support a nearby shop. Every visit helps keep Vista?s small\n\nbusiness community thriving!
X-ALT-DESC;FMTTYPE=text/html:<span style="font-size:16px\;"><span style="font-family:arial\;"><span class="a_GcMg" style="color: rgb(0\, 0\, 0)\; text-align: center\; text-wrap-mode: nowrap\; font-kerning: normal\;">Celebrate Small Business Saturday by supporting our amazing local small businesses!<br />\nEnjoy a vibrant gathering filled with unique local crafts\, handmade treasures\, fresh goods\,<br />\nand talented artisan vendors. Let?s strengthen our community spirit and shop local!</span><span class="a_GcMg zYq_BQ" style="white-space: pre\; text-wrap-style: initial\; overflow-wrap: normal\; color: rgb(0\, 0\, 0)\; text-align: center\; font-kerning: normal\;"> </span><br />\n<br />\n<span style="color: rgb(0\, 0\, 0)\; text-align: center\; text-wrap-mode: nowrap\;">While you explore the market\, don?t forget to&nbsp\;stop by the surrounding storefronts. Grab a&nbsp\;</span><span style="color: rgb(0\, 0\, 0)\; text-align: center\; text-wrap-mode: nowrap\;">coffee\, browse a boutique\, or support a nearby&nbsp\;</span><span style="color: rgb(0\, 0\, 0)\; text-align: center\; text-wrap-mode: nowrap\;">shop. Every visit helps keep Vista?s small</span><br style="color: rgb(0\, 0\, 0)\; font-family: YACgEcnJpjs_0\, auto\; font-size: 35.9998px\; text-align: center\; text-wrap-mode: nowrap\;" />\n<span style="color: rgb(0\, 0\, 0)\; text-align: center\; text-wrap-mode: nowrap\;">business community thriving!</span></span></span>
LOCATION:Downtown Gazebo 101 Michigan Ave.
UID:e.493.29582
SEQUENCE:3
DTSTAMP:20260422T133238Z
URL:https://business.vistachamber.org/events/details/vista-community-market-29582
END:VEVENT

END:VCALENDAR
