BEGIN:VCALENDAR
VERSION:2.0
PRODID:-//ChamberMaster//Event Calendar 2.0//EN
METHOD:PUBLISH
X-PUBLISHED-TTL:P3D
REFRESH-INTERVAL:P3D
CALSCALE:GREGORIAN
BEGIN:VEVENT
DTSTART:20260328T180000Z
DTEND:20260328T230000Z
X-MICROSOFT-CDO-ALLDAYEVENT:FALSE
SUMMARY:Vista Community Market
DESCRIPTION:Celebrate Spring 2026 by supporting our amazing local small\n\nbusinesses! Enjoy a vibrant gathering filled with unique local crafts\,\n\nhandmade treasures\, fresh goods\, and talented artisan vendors.\n\nLet's strengthen our community spirit and shop local! \n\n\n\nWhile you explore the market\, don't forget tostop by the surrounding storefronts. Grab a\n\ncoffee\, browse a boutique\, or support a nearby\n\nshop. Every visit helps keep Vista's small\n\nbusiness community thriving!
X-ALT-DESC;FMTTYPE=text/html:<span style="font-size:16px\;"><span class="a_GcMg" style="opacity: 1\; color: rgb(0\, 0\, 0)\; text-align: center\; text-wrap-mode: nowrap\; font-kerning: normal\;">Celebrate Spring 2026 by supporting our amazing local small<br />\nbusinesses! Enjoy a vibrant gathering filled with unique local crafts\,<br />\nhandmade treasures\, fresh goods\, and talented artisan vendors.<br />\nLet&rsquo\;s strengthen our community spirit and shop local!</span><span class="a_GcMg zYq_BQ" style="opacity: 1\; white-space: pre\; text-wrap-style: initial\; overflow-wrap: normal\; color: rgb(0\, 0\, 0)\; text-align: center\; font-kerning: normal\;"> </span><br />\n<br />\n<span style="font-family:arial\;"><span style="color: rgb(0\, 0\, 0)\; text-align: center\; text-wrap-mode: nowrap\;">While you explore the market\, don&rsquo\;t forget to</span><span style="color: rgb(0\, 0\, 0)\; text-align: center\; text-wrap-mode: nowrap\;">stop by the surrounding storefronts. Grab a</span><br style="color: rgb(0\, 0\, 0)\; font-family: YACgEcnJpjs_0\, auto\; font-size: 35.9998px\; text-align: center\; text-wrap-mode: nowrap\;" />\n<span style="color: rgb(0\, 0\, 0)\; text-align: center\; text-wrap-mode: nowrap\;">coffee\, browse a boutique\, or support a nearby</span><br style="color: rgb(0\, 0\, 0)\; font-family: YACgEcnJpjs_0\, auto\; font-size: 35.9998px\; text-align: center\; text-wrap-mode: nowrap\;" />\n<span style="color: rgb(0\, 0\, 0)\; text-align: center\; text-wrap-mode: nowrap\;">shop. Every visit helps keep Vista&rsquo\;s small</span><br style="color: rgb(0\, 0\, 0)\; font-family: YACgEcnJpjs_0\, auto\; font-size: 35.9998px\; text-align: center\; text-wrap-mode: nowrap\;" />\n<span style="color: rgb(0\, 0\, 0)\; text-align: center\; text-wrap-mode: nowrap\;">business community thriving!</span></span></span>
LOCATION:Downtown Gazebo 101 Michigan Ave.
UID:e.493.32250
SEQUENCE:3
DTSTAMP:20260422T225706Z
URL:https://business.vistachamber.org/events/details/vista-community-market-32250
END:VEVENT

END:VCALENDAR
