BEGIN:VCALENDAR
VERSION:2.0
PRODID:-//ChamberMaster//Event Calendar 2.0//EN
METHOD:PUBLISH
X-PUBLISHED-TTL:P3D
REFRESH-INTERVAL:P3D
CALSCALE:GREGORIAN
BEGIN:VEVENT
DTSTART:20230528T150000Z
DTEND:20230529T010000Z
X-MICROSOFT-CDO-ALLDAYEVENT:FALSE
SUMMARY:Vista Strawberry Festival
DESCRIPTION:Find more information about this 1-day event at vistastrawberryfest.com.
X-ALT-DESC;FMTTYPE=text/html:Find more information about this 1-day event at <a href="https://vistastrawberryfest.com/">vistastrawberryfest.com</a>.
LOCATION:Downtown Vista
UID:e.493.24907
SEQUENCE:3
DTSTAMP:20260424T031348Z
URL:https://business.vistachamber.org/events/details/vista-strawberry-festival-24907
END:VEVENT

END:VCALENDAR
