BEGIN:VCALENDAR
VERSION:2.0
PRODID:-//ChamberMaster//Event Calendar 2.0//EN
METHOD:PUBLISH
X-PUBLISHED-TTL:P3D
REFRESH-INTERVAL:P3D
CALSCALE:GREGORIAN
BEGIN:VEVENT
DTSTART:20210620T160000Z
DTEND:20210621T000000Z
X-MICROSOFT-CDO-ALLDAYEVENT:FALSE
SUMMARY:Vista Strawberry Festival presents A BERRY GOOD MARKET & VIRTUAL RUN
DESCRIPTION:Vista Strawberry Festival Presents A BERRY SWEET MARKET and VIRTUAL RUN where once again we will celebrate all the joys and pleasures of the Strawberry. Vista was once the "Strawberry Capital of the World" and still boasts many strawberry fields. Come enjoy our celebration of the "berry" in the NEW FOR 2021 "BERRY SWEET MARKET" as we bring artisans and vendors\, music\, virtual 5K (with bibs & medals)\, unique strawberry dessert creations\, costumes and contests\, children's activities and an international selection of foods to the streets of the beautifully renovated and historic downtown Vista! The BERRY SWEET MARKET is the Vista Strawberry Festival Redux as we emerge out of the COVID precautionary measures and open up for business. The smaller venue will still provide opportunity for community\, connection\, and commerce in the village of Vista - and we invite you to join us on JUNE 20th from 9:00 to 5:00 p.m.!\n\nNote: Expect modifications to the event layout and event activities due to COVID 19 precautions.\n\n\n\n2021 Vendors may apply/register here: Vista | Kennedy and Associates (kennedyfaires.com)\n\n \nRunners may register here: Vista Strawberry Festival Run | In Motion Events
X-ALT-DESC;FMTTYPE=text/html:<span style="color: rgb(32\, 31\, 30)\; font-family: Calibri\, sans-serif\; font-size: 14.6667px\;">&nbsp\;<br />\nVista Strawberry Festival Presents A BERRY SWEET MARKET and VIRTUAL RUN where once again we will celebrate all the joys and pleasures of the Strawberry. Vista was once the &quot\;Strawberry Capital of the World&quot\; and still boasts many strawberry fields. Come enjoy our celebration of the &quot\;berry&quot\; in the NEW FOR 2021 &quot\;BERRY SWEET MARKET&quot\; as we bring artisans and vendors\, music\, virtual 5K (with bibs &amp\; medals)\, unique strawberry dessert creations\, costumes and contests\, children&#39\;s activities and an international selection of foods to the streets of the beautifully renovated and historic downtown Vista! The BERRY SWEET MARKET is the Vista Strawberry Festival Redux as we emerge out of the COVID precautionary measures and open up for business. The smaller venue will still provide opportunity for community\, connection\, and commerce in the village of Vista - and we invite you to join us on JUNE 20th from 9:00 to 5:00 p.m.!<br />\n<em>Note: Expect modifications to the event layout and event activities due to COVID 19 precautions.</em><br />\n<br />\n2021 Vendors may apply/register here:&nbsp\;</span><a href="http://www.kennedyfaires.com/vista">Vista | Kennedy and Associates (kennedyfaires.com)</a><br />\n&nbsp\;\n<p style="font-family: &quot\;Lucida Sans Unicode&quot\;\, &quot\;Lucida Grande&quot\;\, &quot\;Trebuchet MS&quot\;\, Helvetica\, Arial\, sans-serif\; line-height: 20px\; letter-spacing: 0.1px\; word-spacing: 1px\; margin: 0px 0px 20px\; padding: 0px 0px 0px 2px\; border: 0px\; vertical-align: baseline\; color: rgb(102\, 102\, 102)\; font-size: 12px\; background-color: rgb(249\, 249\, 249)\;"><span style="background-color: rgb(255\, 255\, 255)\; color: rgb(51\, 51\, 51)\; font-family: sans-serif\, Arial\, Verdana\, &quot\;Trebuchet MS&quot\;\; font-size: 13px\;">Runners may register here:&nbsp\;</span><a href="https://inmotionevents.com/event/vista-strawberry-run/" style="font-family: sans-serif\, Arial\, Verdana\, &quot\;Trebuchet MS&quot\;\; font-size: 13px\;">Vista Strawberry Festival Run | In Motion Events</a></p>\n
LOCATION:Downtown Vista
UID:e.493.20640
SEQUENCE:3
DTSTAMP:20260423T100611Z
URL:https://business.vistachamber.org/events/details/vista-strawberry-festival-presents-a-berry-good-market-virtual-run-20640
END:VEVENT

END:VCALENDAR
