BEGIN:VCALENDAR
VERSION:2.0
PRODID:-//ChamberMaster//Event Calendar 2.0//EN
METHOD:PUBLISH
X-PUBLISHED-TTL:P3D
REFRESH-INTERVAL:P3D
CALSCALE:GREGORIAN
BEGIN:VEVENT
DTSTART;VALUE=DATE:20230916
DTEND;VALUE=DATE:20230917
TRANSP:TRANSPARENT
X-MICROSOFT-CDO-ALLDAYEVENT:TRUE
SUMMARY:Vista Viking Festival
DESCRIPTION:Vista Viking Festival is Southern California's premier Viking era celebration.  Re-enactors in Viking Villages provide historic context\, battles\, and a glimpse at Viking life.  Live music from Local favorites Highland Way\, Blindfold Monks\, Silk Button Butchers and Damekor. Try your hand at Archery\, Spears and Axes on our practice range.  Enjoy Norwegian & Viking cultural demonstrations. Vendors and food booths will have items to tempt your coins from your purse.  Sample local beer and mead in our bar.
X-ALT-DESC;FMTTYPE=text/html:<span style="font-size:16px\;"><span style="font-family:verdana\;">Vista Viking Festival is Southern California&#39\;s premier Viking era celebration. &nbsp\;Re-enactors in Viking Villages provide historic context\, battles\, and a glimpse at Viking life. &nbsp\;Live music from Local favorites Highland Way\, Blindfold Monks\, Silk Button Butchers and Damekor. Try your hand at Archery\, Spears and Axes on our practice range. &nbsp\;Enjoy Norwegian &amp\; Viking cultural demonstrations. Vendors and food booths will have items to tempt your coins from your purse. &nbsp\;Sample local beer and mead in our bar.</span></span>
LOCATION:Antique Gas & Steam Engine Museum 2040 N Santa Fe Ave Vista\, CA 92083
UID:e.493.25382
SEQUENCE:3
DTSTAMP:20260423T213126Z
URL:https://business.vistachamber.org/events/details/vista-viking-festival-25382
END:VEVENT

END:VCALENDAR
