BEGIN:VCALENDAR
VERSION:2.0
PRODID:-//ChamberMaster//Event Calendar 2.0//EN
METHOD:PUBLISH
X-PUBLISHED-TTL:P3D
REFRESH-INTERVAL:P3D
CALSCALE:GREGORIAN
BEGIN:VEVENT
DTSTART:20190815T030000Z
DTEND:20190815T060000Z
X-MICROSOFT-CDO-ALLDAYEVENT:FALSE
SUMMARY:West Side Story
DESCRIPTION:From the first notes to the final breath\, West Side Story is one of the most memorable musicals and greatest love stories of all time. Shakespeare's Romeo and Juliet is transported to New York City as two young\, idealistic lovers find themselves caught to survive in a world of hate\, violence and prejudice is one of the most innovative\, heart=wrenching and relevant musical dramas of our time.
X-ALT-DESC;FMTTYPE=text/html:From the first notes to the final breath\, West Side Story is one of the most memorable musicals and greatest love stories of all time. Shakespeare&#39\;s Romeo and Juliet is transported to New York City as two young\, idealistic lovers find themselves caught to survive in a world of hate\, violence and prejudice is one of the most innovative\, heart=wrenching and relevant musical dramas of our time.&nbsp\;
LOCATION:Moonlight Aphitheatre 1200 Vale Terrace Drive
UID:e.493.19312
SEQUENCE:3
DTSTAMP:20260420T113808Z
URL:https://business.vistachamber.org/events/details/west-side-story-19312
END:VEVENT

END:VCALENDAR
