BEGIN:VCALENDAR
VERSION:2.0
PRODID:-//ChamberMaster//Event Calendar 2.0//EN
METHOD:PUBLISH
X-PUBLISHED-TTL:P3D
REFRESH-INTERVAL:P3D
CALSCALE:GREGORIAN
BEGIN:VEVENT
DTSTART:20190428T220000Z
DTEND:20190429T000000Z
X-MICROSOFT-CDO-ALLDAYEVENT:FALSE
SUMMARY:Wine and Dine
DESCRIPTION:Come join the Friends of New Haven for a "Wine and Dine" gathering to learn more about how they support the youth at New Haven Youth and Family Services.
X-ALT-DESC;FMTTYPE=text/html:Come join the Friends of New Haven for a &quot\;Wine and Dine&quot\; gathering to learn more about how they support the youth at New Haven Youth and Family Services.&nbsp\;
LOCATION:Sunshine Mountain Winery 2286 Sunshine Mountain Rd San Marcos\, Ca 92069
UID:e.493.18862
SEQUENCE:3
DTSTAMP:20260424T022407Z
URL:https://business.vistachamber.org/events/details/wine-and-dine-18862
END:VEVENT

END:VCALENDAR
