BEGIN:VCALENDAR
VERSION:2.0
PRODID:-//ChamberMaster//Event Calendar 2.0//EN
METHOD:PUBLISH
X-PUBLISHED-TTL:P3D
REFRESH-INTERVAL:P3D
CALSCALE:GREGORIAN
BEGIN:VEVENT
DTSTART:20251210T180000Z
DTEND:20251210T210000Z
X-MICROSOFT-CDO-ALLDAYEVENT:FALSE
SUMMARY:Woman's Club of Vista December Holiday Meeting with Music
DESCRIPTION:December's Holiday meeting will be an afternoon of fun with music from Ron Ebel. The Ron Ebel Show is a versatile one-man band featuring Ron's sax\, flute\, keys\, harmonica and vocals and a repertoire covering everything from swing jazz\, blues and rock & roll music. Ron keeps the show swinging with song and artist history\, jokes and music trivia contests. \n\n\n\nDon't miss another wonderful chance for service and friendship.  Guests welcome. $27 includes meal\, program\, meeting\, and networking. Register by December 3\, 2025.
X-ALT-DESC;FMTTYPE=text/html:December&rsquo\;s Holiday meeting will be an afternoon of fun with music from Ron Ebel. The Ron Ebel Show is a versatile one-man band featuring Ron&rsquo\;s sax\, flute\, keys\, harmonica and vocals and a repertoire covering everything from swing jazz\, blues and rock &amp\; roll music. Ron keeps the show swinging with song and artist history\, jokes and music trivia contests.&nbsp\;<br />\n<br />\nDon&rsquo\;t miss another wonderful chance for service and friendship.&nbsp\; Guests welcome. $27 includes meal\, program\, meeting\, and networking. Register by December 3\, 2025.&nbsp\;
LOCATION:Shadowridge Golf Club 1980 Gateway Drive Vista\, CA 92081
UID:e.493.29610
SEQUENCE:3
DTSTAMP:20260422T155418Z
URL:https://business.vistachamber.org/events/details/woman-s-club-of-vista-december-holiday-meeting-with-music-29610
END:VEVENT

END:VCALENDAR
