BEGIN:VCALENDAR
VERSION:2.0
PRODID:-//ChamberMaster//Event Calendar 2.0//EN
METHOD:PUBLISH
X-PUBLISHED-TTL:P3D
REFRESH-INTERVAL:P3D
CALSCALE:GREGORIAN
BEGIN:VEVENT
DTSTART:20251112T180000Z
DTEND:20251112T210000Z
X-MICROSOFT-CDO-ALLDAYEVENT:FALSE
SUMMARY:Woman's Club of Vista November Meeting Spotlighting Veterans
DESCRIPTION:We are celebrating veterans this month with speaker Lori Boody of the Veterans Association of North County. We'll also be signing and assembling Thanksgiving cards for patients at the Santa Fe Acute Care Skilled Nursing Facility. And we will be collecting toys/cards for the Veterans Association Children's Holiday Parties.\n\n\n\nRegister by November 5\, 2025.  Don't miss another wonderful chance for service and friendship.  Guests welcome. $27 includes meal\, program\, meeting\, and networking.
X-ALT-DESC;FMTTYPE=text/html:We are celebrating veterans this month with speaker Lori Boody of the Veterans Association of North County. We&#39\;ll also be signing and assembling Thanksgiving cards for patients at the Santa Fe Acute Care Skilled Nursing Facility. And we will be collecting toys/cards for the Veterans Association Children&#39\;s Holiday Parties.<br />\n<br />\nRegister by November 5\, 2025.&nbsp\; Don&rsquo\;t miss another wonderful chance for service and friendship.&nbsp\; Guests welcome. $27 includes meal\, program\, meeting\, and networking.&nbsp\;<br />\n&nbsp\;
LOCATION:Shadowridge Golf Club 1980 Gateway Drive Vista\, CA 92081
UID:e.493.29609
SEQUENCE:3
DTSTAMP:20260422T135314Z
URL:https://business.vistachamber.org/events/details/woman-s-club-of-vista-november-meeting-spotlighting-veterans-11-12-2025-29609
END:VEVENT

END:VCALENDAR
