BEGIN:VCALENDAR
VERSION:2.0
PRODID:-//ChamberMaster//Event Calendar 2.0//EN
METHOD:PUBLISH
X-PUBLISHED-TTL:P3D
REFRESH-INTERVAL:P3D
CALSCALE:GREGORIAN
BEGIN:VEVENT
DTSTART:20181108T153000Z
DTEND:20181108T180000Z
X-MICROSOFT-CDO-ALLDAYEVENT:FALSE
SUMMARY:Workforce Frontiers Symposium
DESCRIPTION:Join us for inspiration and dialog! Symposium speakers will passionately explain and advocate for innovative approaches to workforce development. \n\n	Better Careers and Fair Work for All Californians: Early Lessons from the James Irvine Foundation's Next Frontier\n	A New Approach to Financing Training and Higher Education\n	Focusing on Results through Pay-for-success Contracting in Workforce Development. \n	The Intersection of the Workforce and the Region's Homeless Response.
X-ALT-DESC;FMTTYPE=text/html:Join us for inspiration and dialog! Symposium speakers will passionately explain and advocate for innovative approaches to workforce development.&nbsp\;\n<ul>\n	<li>Better Careers and Fair Work for All Californians: Early Lessons from the James Irvine Foundation&#39\;s Next Frontier</li>\n	<li>A New Approach to Financing Training and Higher Education</li>\n	<li>Focusing on Results through Pay-for-success Contracting in Workforce Development.&nbsp\;</li>\n	<li>The Intersection of the Workforce and the Region&#39\;s Homeless Response.</li>\n</ul>\n
LOCATION:Central Downtown Library Neil Morgan Auditorium 1st Floor 330 Park Blvd.\, San Diego\, CA\, 92101
UID:e.493.18710
SEQUENCE:3
DTSTAMP:20260424T022221Z
URL:https://business.vistachamber.org/events/details/workforce-frontiers-symposium-18710
END:VEVENT

END:VCALENDAR
